Workbook

Sheet DG
B3: DEVIZ GENERAL
B4: al obiectivului de investitii
B5: „Înființarea unui Centru de colectare prin aport voluntar în Oraşul Borsec, judeţul Harghita”
A9: Nr. crt. | B9: Denumirea capitolelor si subcapitolelor de cheltuieli | C9: Valoare (*) (fara TVA) | D9: TVA | E9: Valoare cu TVA | G9: Eligibil (fara TVA) | H9: Neeligibil (fara TVA)
C10: lei | D10: lei | E10: lei | G10: lei | H10: lei
A11: 1 | B11: 2 | C11: 3 | D11: 4 | E11: 5 | G11: 6 | H11: 7
A12: CAPITOLUL 1
A13: Cheltuieli pentru obtinerea si amenajarea terenului
A14: 1.1 | B14: Obtinerea terenului | C14: =DF.1!C17 -> 0 | D14: =C14*0.19 -> 0 | E14: =C14+D14 -> 0 | G14: =DF.1!H17 -> 0 | H14: =DF.1!I17 -> 0
A15: 1.2 | B15: Amenajarea terenului | C15: 20000 | D15: =C15*0.19 -> 3800 | E15: =C15+D15 -> 23800 | G15: =DF.1!H29 -> 0 | H15: =C15 -> 20000
A16: 1.3 | B16: Amenajari pentru protectia mediului si aducerea terenului la starea initiala | C16: 18867.47 | D16: =C16*0.19 -> 3584.8193 | E16: =C16+D16 -> 22452.289 | G16: =DF.1!H36 -> 0 | H16: =C16 -> 18867.47
A17: 1.4 | B17: Cheltuieli pentru relocarea/protectia utilitatilor | C17: =DF.1!C43 -> 0 | D17: =C17*0.19 -> 0 | E17: =C17+D17 -> 0 | G17: =DF.1!H43 -> 0 | H17: =DF.1!I43 -> 0
A18: Total capitol 1 | C18: =C14+C15+C16+C17 -> 38867.47 | D18: =D14+D15+D16+D17 -> 7384.8193 | E18: =E14+E15+E16+E17 -> 46252.289 | G18: =G14+G15+G16+G17 -> 0 | H18: =H14+H15+H16+H17 -> 38867.47
A19: CAPITOLUL 2
A20: Cheltuieli pentru asigurarea utilitatilor necesare obiectivului de investitii
A21: Total capitol 2 | C21: =DF.2!C26 -> 67000 | D21: =C21*0.19 -> 12730 | E21: =C21+D21 -> 79730 | G21: =C21 -> 67000 | H21: =DF.2!I26 -> 0
A22: CAPITOLUL 3
A23: Cheltuieli pentru proiectare si asistenta tehnica
A24: 3.1 | B24: Studii | C24: =C25+C26+C27 -> 16220 | D24: =D25+D26+D27 -> 3081.8 | E24: =E25+E26+E27 -> 19301.8 | G24: =G25+G26+G27 -> 16220 | H24: =H25+H26+H27 -> 0
B25: 3.1.1. Studii de teren | C25: =DF.3!C19 -> 9800 | D25: =C25*0.19 -> 1862 | E25: =C25+D25 -> 11662 | G25: =C25 -> 9800 | H25: =DF.3!I19 -> 0
B26: 3.1.2. Raport privind impactul asupra mediului | C26: =DF.3!C24 -> 6420 | D26: =C26*0.19 -> 1219.8 | E26: =C26+D26 -> 7639.8 | G26: =C26 -> 6420 | H26: =DF.3!I24 -> 0
B27: 3.1.3. Alte studii specifice | C27: =DF.3!C29 -> 0 | D27: =C27*0.19 -> 0 | E27: =C27+D27 -> 0 | G27: =DF.3!H29 -> 0 | H27: =DF.3!I29 -> 0
A28: 3.2 | B28: Documentatii-suport si cheltuieli pentru obtinerea de avize, acorduri si autorizatii | C28: =DF.3!C49 -> 0 | D28: =C28*0.19 -> 0 | E28: =C28+D28 -> 0 | G28: =DF.3!H49 -> 0 | H28: =DF.3!I49 -> 0
A29: 3.3 | B29: Expertizare tehnica | C29: =DF.3!C54 -> 0 | D29: =C29*0.19 -> 0 | E29: =C29+D29 -> 0 | G29: =DF.3!H54 -> 0 | H29: =DF.3!I54 -> 0
A30: 3.4 | B30: Certificarea performantei energetice si auditul energetic al cladirilor | C30: =DF.3!C59 -> 0 | D30: =C30*0.19 -> 0 | E30: =C30+D30 -> 0 | G30: =DF.3!H59 -> 0 | H30: =DF.3!I59 -> 0
A31: 3.5 | B31: Proiectare | C31: =C32+C33+C34+C35+C36+C37 -> 86744 | D31: =D32+D33+D34+D35+D36+D37 -> 16481.36 | E31: =E32+E33+E34+E35+E36+E37 -> 103225.36 | G31: =G32+G33+G34+G35+G36+G37 -> 86744 | H31: =H32+H33+H34+H35+H36+H37 -> 0
B32: 3.5.1. Tema de proiectare | C32: =DF.3!C63 -> 0 | D32: =C32*0.19 -> 0 | E32: =C32+D32 -> 0 | G32: =DF.3!H63 -> 0 | H32: =DF.3!I63 -> 0
B33: 3.5.2. Studiu de prefezabilitate | C33: =DF.3!C64 -> 0 | D33: =C33*0.19 -> 0 | E33: =C33+D33 -> 0 | G33: =DF.3!H64 -> 0 | H33: =DF.3!I64 -> 0
B34: 3.5.3. Studiu de fezabilitate/documentatie de avizare a lucrarilor de interventii si deviz general | C34: =DF.3!C65 -> 33511 | D34: =C34*0.19 -> 6367.09 | E34: =C34+D34 -> 39878.09 | G34: =C34 -> 33511 | H34: =DF.3!I65 -> 0
B35: 3.5.4. Documentatiile tehnice necesare in vederea obtinerii avizelor/acordurilor/autorizatiilor | C35: =DF.3!C66 -> 0 | D35: =C35*0.19 -> 0 | E35: =C35+D35 -> 0 | G35: =DF.3!H66 -> 0 | H35: =DF.3!I66 -> 0
B36: 3.5.5. Verificarea tehnica de calitate a proiectului tehnic si a detaliilor de executie | C36: =DF.3!C67 -> 5915 | D36: =C36*0.19 -> 1123.85 | E36: =C36+D36 -> 7038.85 | G36: =C36 -> 5915 | H36: =DF.3!I67 -> 0
B37: 3.5.6. Proiect tehnic si detalii de executie | C37: =DF.3!C68 -> 47318 | D37: =C37*0.19 -> 8990.42 | E37: =C37+D37 -> 56308.42 | G37: =C37 -> 47318 | H37: =DF.3!I68 -> 0
A38: 3.6 | B38: Organizarea procedurilor de achizitie | C38: =DF.3!C77 -> 0 | D38: =C38*0.19 -> 0 | E38: =C38+D38 -> 0 | G38: =DF.3!H77 -> 0 | H38: =DF.3!I77 -> 0
A39: 3.7 | B39: Consultanta | C39: =C40+C41 -> 30000 | D39: =D40+D41 -> 5700 | E39: =E40+E41 -> 35700 | G39: =G40+G41 -> 0 | H39: =H40+H41 -> 30000
B40: 3.7.1. Managementul de proiect pentru obiectivul de investitii | C40: 30000 | D40: =C40*0.19 -> 5700 | E40: =C40+D40 -> 35700 | G40: 0 | H40: =C40 -> 30000
B41: 3.7.2. Auditul financiar | C41: =DF.3!C82 -> 0 | D41: =C41*0.19 -> 0 | E41: =C41+D41 -> 0 | G41: =DF.3!H82 -> 0 | H41: =DF.3!I82 -> 0
A42: 3.8 | B42: Asistenta tehnica | C42: =C43+C46 -> 29415 | D42: =D43+D46 -> 5588.85 | E42: =E43+E46 -> 35003.85 | G42: =G43+G46 -> 29415 | H42: =H43+H46 -> 0
B43: 3.8.1. Asistenta tehnica din partea proiectantului | C43: =C44+C45 -> 5915 | D43: =D44+D45 -> 1123.85 | E43: =E44+E45 -> 7038.85 | G43: =G44+G45 -> 5915 | H43: =DF.3!I90 -> 0
B44: 3.8.1.1. pe perioada de executie a lucrarilor | C44: =DF.3!C88 -> 3000 | D44: =C44*0.19 -> 570 | E44: =C44+D44 -> 3570 | G44: =C44 -> 3000 | H44: =DF.3!I88 -> 0
B45: 3.8.1.2. pentru participarea proiectantului la fazele incluse in programul de control al lucrarilor de executie, avizat de catre Inspectoratul de Stat in Constructii | C45: =DF.3!C89 -> 2915 | D45: =C45*0.19 -> 553.85 | E45: =C45+D45 -> 3468.85 | G45: =C45 -> 2915 | H45: =DF.3!I89 -> 0
...

Sheet DF.1
A1: CAPITOLUL 1
A2: CHELTUIELI PENTRU OBTINEREA SI AMENAJAREA TERENULUI
A4: Nr. crt. | B4: =DG!B9 -> Denumirea capitolelor si subcapitolelor de cheltuieli | C4: Valoare (fara TVA) | D4: TVA | E4: 0.19 | F4: Valoare (inclusiv TVA)
C5: lei | D5: lei | F5: lei
A6: 1 | B6: 2 | C6: 3 | D6: 4 | F6: 5
A8: SUBCAPITOLUL 1.1.
A9: Obtinerea terenului
A10: 1.1.1 | B10: Cumpararea de terenuri | C10: 0 | D10: =C10*$E$4 -> 0 | F10: =C10+D10 -> 0
A11: 1.1.2 | B11: Plata concesiunii (redeventei) pe durata realizarii lucrarilor | C11: 0 | D11: =C11*$E$4 -> 0 | F11: =C11+D11 -> 0
A12: 1.1.3 | B12: Exproprieri | C12: 0 | D12: =C12*$E$4 -> 0 | F12: =C12+D12 -> 0
A13: 1.1.4 | B13: Despagubiri | C13: 0 | D13: =C13*$E$4 -> 0 | F13: =C13+D13 -> 0
A14: 1.1.5 | B14: Schimbarea regimului juridic al terenului | C14: 0 | D14: =C14*$E$4 -> 0 | F14: =C14+D14 -> 0
A15: 1.1.6 | B15: Scoaterea temporara sau definitiva din circuitul agricol | C15: 0 | D15: =C15*$E$4 -> 0 | F15: =C15+D15 -> 0
A16: 1.1.7 | B16: Alte cheltuieli | C16: 0 | D16: =C16*$E$4 -> 0 | F16: =C16+D16 -> 0
A17: TOTAL SUBCAPITOL 1.1. | C17: =SUM(C10:C16) -> 0 | D17: =SUM(D10:E16) -> 0 | F17: =SUM(F10:F16) -> 0
A19: SUBCAPITOLUL 1.2.
A20: Amenajarea terenului (cheltuieli efectuate la inceputul lucrarilor pentru pregatirea amplasamentului care constau in:
A22: 1.2.1 | B22: Demolari, demontari, dezafectari, defrisari, evacuari materiale rezultate | C22: 0 | D22: =C22*$E$4 -> 0 | F22: =C22+D22 -> 0
A24: 1.2.2 | B24: Lucrari pentru pregatirea amplasamentului | C24: 0 | D24: =C24*$E$4 -> 0 | F24: =C24+D24 -> 0
A25: 1.2.3 | B25: Sistematizari pe verticala, drenaje, epuismente | C25: 0 | D25: =C25*$E$4 -> 0 | F25: =C25+D25 -> 0
A26: 1.2.4 | B26: Devieri de cursuri de apa | C26: 0 | D26: =C26*$E$4 -> 0 | F26: =C26+D26 -> 0
A27: 1.2.5 | B27: Stramutari de localitati | C27: 0 | D27: =C27*$E$4 -> 0 | F27: =C27+D27 -> 0
A28: 1.2.6 | B28: Stramutari de monumente istorice | C28: 0 | D28: =C28*$E$4 -> 0 | F28: =C28+D28 -> 0
A29: TOTAL SUBCAPITOL 1.2. | C29: =SUM(C22:C28) -> 0 | D29: =SUM(D22:E28) -> 0 | F29: =SUM(F22:F28) -> 0
A31: SUBCAPITOLUL 1.3.
A32: Amenajari pentru protectia mediului si aducerea la starea initiala
A33: 1.3.1 | B33: Lucrari si actiuni de protectia mediului | C33: 0 | D33: =C33*$E$4 -> 0 | F33: =C33+D33 -> 0
A34: 1.3.2 | B34: Refacerea cadrului natural dupa terminarea lucrarilor (plantari copaci, reamenajare spatii verzi, reintroducerea in circuitul agricol a suprafetelor scoase temporar din uz. | C34: 0 | D34: =C34*$E$4 -> 0 | F34: =C34+D34 -> 0
A36: TOTAL SUBCAPITOL 1.3. | C36: =SUM(C33:C35) -> 0 | D36: =SUM(D33:E35) -> 0 | F36: =SUM(F33:F35) -> 0
A38: SUBCAPITOLUL 1.4.
A39: Cheltuieli pentru relocarea/protectia utilitatilor
A40: 1.4.1 | B40: Relocare retele de utilitati din amplasament | C40: 0 | D40: =C40*$E$4 -> 0 | F40: =C40+D40 -> 0
A41: 1.4.2 | C41: 0 | D41: =C41*$E$4 -> 0 | F41: =C41+D41 -> 0
A43: TOTAL SUBCAPITOL 1.4. | C43: =SUM(C40:C42) -> 0 | D43: =SUM(D40:E42) -> 0 | F43: =SUM(F40:F42) -> 0
A44: TOTAL CAPITOL 1 | C44: =C17+C29+C36+C43 -> 0 | D44: =D36+D29+D17+D43 -> 0 | F44: =F17+F29+F36+F43 -> 0
B47: INTOCMIT:

Sheet DF.2
A2: CAPITOLUL 2
A3: CHELTUIELI NECESARE PENTRU ASIGURAREA UTILITATILOR NECESARE OBIECTIVULUI
A6: Nr. crt. | B6: =DG!B9 -> Denumirea capitolelor si subcapitolelor de cheltuieli | C6: Valoare (fara TVA) | D6: TVA | E6: =DF.1!E4 -> 0.19 | F6: Valoare (inclusiv TVA)
C7: lei | D7: lei | F7: lei
A8: 1 | B8: 2 | C8: 3 | D8: 4 | F8: 5
A10: SUBCAPITOLUL 2.1.
A11: Utilitati necesare functionarii obiectivului de investitie ce se executa pe amplasamentul delimitat din punct de vedere juridic apartinand obiectului de investitie
A13: 2.1.1 | B13: Alimentare cu apa | C13: 20000 | D13: =C13*$E$6 -> 3800 | F13: =C13+D13 -> 23800
A14: 2.1.2 | B14: Canalizare | C14: 40000 | D14: =C14*$E$6 -> 7600 | F14: =C14+D14 -> 47600
A15: 2.1.3 | B15: Alimentare cu gaze naturale | C15: 0 | D15: =C15*$E$6 -> 0 | F15: =C15+D15 -> 0
A16: 2.1.4 | B16: Agent termic | C16: 0 | D16: =C16*$E$6 -> 0 | F16: =C16+D16 -> 0
A17: 2.1.5 | B17: Energie electrica | C17: 7000 | D17: =C17*$E$6 -> 1330 | F17: =C17+D17 -> 8330
A18: 2.1.6 | B18: Telecomunicatii | C18: 0 | D18: =C18*$E$6 -> 0 | F18: =C18+D18 -> 0
A19: 2.1.7 | B19: Drumuri de acces | C19: 0 | D19: =C19*$E$6 -> 0 | F19: =C19+D19 -> 0
A20: 2.1.8 | B20: Cai ferate industriale | C20: 0 | D20: =C20*$E$6 -> 0 | F20: =C20+D20 -> 0
A21: TOTAL SUBCAPITOL 2.1. | C21: =SUM(C13:C20) -> 67000 | D21: =SUM(D13:E20) -> 12730 | F21: =SUM(F13:F20) -> 79730
A23: SUBCAPITOLUL 2.2.
A24: Racordarea la retele de utilitati
A25: TOTAL SUBCAPITOL 2.2 | C25: 0 | D25: =C25*E6 -> 0 | F25: =C25+D25 -> 0
A26: TOTAL CAPITOL 2 | C26: =C21+C25 -> 67000 | D26: =D25+D21 -> 12730 | F26: =F25+F21 -> 79730
B29: INTOCMIT:

Sheet DF.3
A2: CAPITOLUL 3
A3: CHELTUIELI PENTRU PROIECTARE SI ASISTENTA TEHNICA
A6: Nr. crt. | B6: =DG!B9 -> Denumirea capitolelor si subcapitolelor de cheltuieli | C6: Valoare (fara TVA) | D6: TVA | E6: =DF.1!E4 -> 0.19 | F6: Valoare (inclusiv TVA)
C7: lei | D7: lei | F7: lei
A8: 1 | B8: 2 | C8: 3 | D8: 4 | F8: 5
A10: SUBCAPITOLUL 3.1
A11: Studii
A12: 3.1.1 | B12: Studii de teren
A13: 3.1.1.1 | B13: Studii geotehnice | C13: 9800 | D13: =C13*$E$6 -> 1862 | F13: =C13+D13 -> 11662
A14: 3.1.1.2 | B14: Studii geologice | C14: 0 | D14: =C14*$E$6 -> 0 | F14: =C14+D14 -> 0
A15: 3.1.1.3 | B15: Studii hidrologice | C15: 0 | D15: =C15*$E$6 -> 0 | F15: =C15+D15 -> 0
A16: 3.1.1.4 | B16: Studii hidrogeotehnice | C16: 0 | D16: =C16*$E$6 -> 0 | F16: =C16+D16 -> 0
A17: 3.1.1.5 | B17: Studii fotogrametrice | C17: 0 | D17: =C17*$E$6 -> 0 | F17: =C17+D17 -> 0
A18: 3.1.1.6 | B18: Studii topografice | C18: 0 | D18: =C18*$E$6 -> 0 | F18: =C18+D18 -> 0
A19: TOTAL SUBCAPITOL 3.1.1 | C19: =SUM(C13:C18) -> 9800 | D19: =SUM(D13:E18) -> 1862 | F19: =SUM(F13:F18) -> 11662
A21: SUBCAPITOLUL 3.1.2
A22: Raport privind impactul asupra mediului
A23: 3.1.2 | B23: Raport privind impactul asupra mediului | C23: 6420 | D23: =C23*$E$6 -> 1219.8 | F23: =C23+D23 -> 7639.8
A24: TOTAL SUBCAPITOL 3.1.2 | C24: =SUM(C23) -> 6420 | D24: =SUM(D23) -> 1219.8 | F24: =SUM(F23) -> 7639.8
A26: SUBCAPITOLUL 3.1.3
A27: Alte studii specifice
A28: 3.1.3 | B28: Alte studii specifice | C28: 0 | D28: =C28*$E$6 -> 0 | F28: =C28+D28 -> 0
A29: TOTAL SUBCAPITOL 3.1.3 | C29: =SUM(C28) -> 0 | D29: =SUM(D28) -> 0 | F29: =SUM(F28) -> 0
A30: TOTAL SUBCAPITOL 3.1 | C30: =C29+C24+C19 -> 16220 | D30: =D29+D24+D19 -> 3081.8 | F30: =F29+F24+F19 -> 19301.8
A32: SUBCAPITOLUL 3.2.
A33: Doumentatii-suport si cheltuieli pentru obtinere avize, acorduri, autorizatii
A34: 3.2.1 | B34: Obtinerea/prelungirea valabilitatii certificatului de urbanism | C34: 0 | D34: =C34*$E$6 -> 0 | F34: =C34+D34 -> 0
A36: 3.2.2 | B36: Obtinerea/prelungirea valabilitatii autorizatiei de construire/desfiintare | C36: 0 | D36: =C36*$E$6 -> 0 | F36: =C36+D36 -> 0
A38: 3.2.3 | B38: Obtinerea avizelor si acordurilor pentru racorduri si bransamente la retelele publice de apa, canalizare, gaze, termoficare, energie electrica, telefonie, etc | C38: 0 | D38: =C38*$E$6 -> 0 | F38: =C38+D38 -> 0
A42: 3.2.4 | B42: Obtinerea certificatului de nomenclatura stradala si adresa | C42: 0 | D42: =C42*$E$6 -> 0 | F42: =C42+D42 -> 0
A44: 3.2.5 | B44: Intocmirea documentatiei,obtinerea numarului cadastral provizoriu si inregistrarea terenului in cartea funciara | C44: 0 | D44: =C44*$E$6 -> 0 | F44: =C44+D44 -> 0
A46: 3.2.6 | B46: Obtinerea acordului de mediu | C46: 0 | D46: =C46*$E$6 -> 0 | F46: =C46+D46 -> 0
A47: 3.2.7 | B47: Obtinerea avizului PSI | C47: 0 | D47: =C47*$E$6 -> 0 | F47: =C47+D47 -> 0
A48: 3.2.8 | B48: Alte avize, acorduri si autorizatii | C48: 0 | D48: =C48*$E$6 -> 0 | F48: =C48+D48 -> 0
A49: TOTAL SUBCAPITOL 3.2 | C49: =SUM(C34:C48) -> 0 | D49: =SUM(D34:E48) -> 0 | F49: =SUM(F34:F48) -> 0
A51: SUBCAPITOLUL 3.3
A52: Expertizare tehnica
A53: 3.3.1 | B53: Expertizare tehnica | C53: 0 | D53: =C53*$E$6 -> 0 | F53: =C53+D53 -> 0
A54: TOTAL SUBCAPITOL 3.3 | C54: =SUM(C53) -> 0 | D54: =SUM(D53) -> 0 | F54: =SUM(F53) -> 0
A56: SUBCAPITOLUL 3.4
...

Sheet DF.4
A2: CAPITOLUL 4
A3: CHELTUIELI PENTRU INVESTITIA DE BAZA
A6: Nr. crt. | B6: =DG!B9 -> Denumirea capitolelor si subcapitolelor de cheltuieli | C6: Valoare (fara TVA) | D6: TVA | E6: =DF.1!E4 -> 0.19 | F6: Valoare (inclusiv TVA)
C7: lei | D7: lei | F7: lei
A8: 1 | B8: 2 | C8: 3 | D8: 4 | F8: 5
A10: SUBCAPITOLUL 4.1.
A11: Constructii si instalatii
A12: 4.1.1 | B12: Rezistenta | C12: 1923207 | D12: =C12*$E$6 -> 365409.33 | F12: =C12+D12 -> 2288616.3
A13: 4.1.2 | B13: Instalatii | C13: 418208 | D13: =C13*$E$6 -> 79459.52 | F13: =C13+D13 -> 497667.52
A14: 4.1.3 | C14: 0 | D14: =C14*$E$6 -> 0 | F14: =C14+D14 -> 0
A15: 4.1.4 | C15: 0 | D15: =C15*$E$6 -> 0 | F15: =C15+D15 -> 0
A16: 4.1.5 | C16: 0 | D16: =C16*$E$6 -> 0 | F16: =C16+D16 -> 0
A17: 4.1.6 | C17: 0 | D17: =C17*$E$6 -> 0 | F17: =C17+D17 -> 0
A18: TOTAL SUBCAPITOL 4.1. | C18: =SUM(C12:C17) -> 2341415 | D18: =SUM(D12:D17) -> 444868.85 | F18: =SUM(F12:F17) -> 2786283.9
A20: SUBCAPITOLUL 4.2.
A21: Montaj utilaje, echipamente tehnologice si functionale
A22: 4.2.1 | C22: 16245 | D22: =C22*$E$6 -> 3086.55 | F22: =C22+D22 -> 19331.55
A23: 4.2.2 | C23: 0 | D23: =C23*$E$6 -> 0 | F23: =C23+D23 -> 0
A24: TOTAL SUBCAPITOL 4.2. | C24: =C22+C23 -> 16245 | D24: =D22+D23 -> 3086.55 | F24: =F22+F23 -> 19331.55
A26: SUBCAPITOLUL 4.3.
A27: Utilaje, echipamente tehnologice si functionale care necesita montaj
A28: 4.3.1 | B28: Utilaje conform listei | C28: 1150989 | D28: =C28*$E$6 -> 218687.91 | F28: =C28+D28 -> 1369676.9
A29: 4.3.2 | C29: 0 | D29: =C29*$E$6 -> 0 | F29: =C29+D29 -> 0
A30: TOTAL SUBCAPITOL 4.3. | C30: =C28+C29 -> 1150989 | D30: =D28+D29 -> 218687.91 | F30: =F28+F29 -> 1369676.9
A32: SUBCAPITOLUL 4.4.
A33: Utilaje, echipamente tehnologice si functionale care nu necesita montaj si echipamente de transport
A34: 4.4.1 | C34: 0 | D34: =C34*$E$6 -> 0 | F34: =C34+D34 -> 0
A35: 4.4.2 | C35: 0 | D35: =C35*$E$6 -> 0 | F35: =C35+D35 -> 0
A36: TOTAL SUBCAPITOL 4.4. | C36: =C34+C35 -> 0 | D36: =D34+D35 -> 0 | F36: =F34+F35 -> 0
A38: SUBCAPITOLUL 4.5.
A39: Dotari
A40: 4.5.1 | C40: 0 | D40: =C40*$E$6 -> 0 | F40: =C40+D40 -> 0
A41: 4.5.2 | C41: 0 | D41: =C41*$E$6 -> 0 | F41: =C41+D41 -> 0
A42: TOTAL SUBCAPITOL 4.5. | C42: =C40+C41 -> 0 | D42: =D40+D41 -> 0 | F42: =F40+F41 -> 0
A44: SUBCAPITOLUL 4.6.
A45: Active necorporale
A46: 4.6.1 | B46: Active necorporale | C46: 0 | D46: =C46*$E$6 -> 0 | F46: =C46+D46 -> 0
A47: TOTAL SUBCAPITOL 4.6. | C47: =C45+C46 -> 0 | D47: =D45+D46 -> 0 | F47: =F45+F46 -> 0
A48: TOTAL CAPITOL 4 | C48: =C18+C24+C30+C36+C42+C47 -> 3508649 | D48: =D18+D24+D30+D36+D42+D47 -> 666643.31 | F48: =F18+F24+F30+F36+F42+F47 -> 4175292.3
B51: INTOCMIT:

Sheet DF.5
A2: CAPITOLUL 5
A3: ALTE CHELTUIELI
A6: Nr. crt. | B6: =DG!B9 -> Denumirea capitolelor si subcapitolelor de cheltuieli | D6: Valoare (fara TVA) | E6: TVA | F6: =DF.1!E4 -> 0.19 | G6: Valoare (inclusiv TVA)
D7: lei | E7: lei | G7: lei
A8: 1 | B8: 2 | D8: 3 | E8: 4 | G8: 5
A10: SUBCAPITOLUL 5.1
A11: Organizare de santier
A12: 5.1.1 | B12: Lucrari de constructii si instalatii aferente organizarii de santier | D12: 69815 | E12: =D12*$F$6 -> 13264.85 | G12: =D12+E12 -> 83079.85
A15: 5.1.2 | B15: Cheltuieli conexe organizarii de santier | D15: 0 | E15: =D15*$F$6 -> 0 | G15: =D15+E15 -> 0
A17: TOTAL SUBCAPITOL 5.1 | D17: =SUM(D12:D16) -> 69815 | E17: =SUM(E12:F16) -> 13264.85 | G17: =SUM(G12:G16) -> 83079.85
A19: SUBCAPITOLUL 5.2
A20: Comisioane, cote, taxe, costul creditului
A21: 5.2.1 | B21: Comisioanele si dobanzile aferente creditului bancii finantatoare | D21: =B22*(DF.3!C93+DF.4!C48+DF.5!D17) -> 0 | E21: =D21*0 -> 0 | G21: =D21+E21 -> 0
B22: 0 | C22: x (3+4+5.1)
A23: 5.2.2 | B23: Cota aferenta Inspectoratului de Stat in Constructii | D23: =B24*(DF.1!C29+DF.1!C36+DF.1!C43+DF.2!C26+DF.4!C18+DF.4!C24+DF.5!D12) -> 12472.375 | E23: =D23*0 -> 0 | G23: =D23+E23 -> 12472.375
B24: 0.005 | C24: x (1.2+1.3+1.4+2+4.1+4.2+5.1.1)
A25: 5.2.3 | B25: Cota aferenta ISC pentru controlul calitatii lucrarilor de constructii | D25: =B28*(DF.1!C29+DF.1!C36+DF.1!C43+DF.2!C26+DF.4!C18+DF.4!C24+DF.5!D12) -> 2494.475 | E25: =D25*0 -> 0 | G25: =D25+E25 -> 2494.475
D27: =B28*DF.4!#REF! -> #REF!
B28: 0.001 | C28: x (1.2+1.3+1.4+2+4.1+4.2+5.1.1)
A29: 5.2.4 | B29: Cota aferenta Casei Sociale a Constructorilor - CSC | D29: =B30*(DF.1!C29+DF.1!C36+DF.1!C43+DF.2!C26+DF.4!C18+DF.4!C24+DF.5!D12) -> 12472.375 | E29: =D29*0 -> 0 | G29: =D29+E29 -> 12472.375
B30: 0.005 | C30: x (1.2+1.3+1.4+2+4.1+4.2+5.1.1)
A31: 5.2.5 | B31: Taxe pentru acorduri, avize conforme si autorizatia de construire /desfiintare | D31: 0 | E31: =D31*0 -> 0 | G31: =D31+E31 -> 0
A32: TOTAL SUBCAPITOL 5.2 | D32: =D21+D23+D25+D29+D31 -> 27439.225 | E32: =SUM(E21:F31) -> 0 | G32: =SUM(G21:G31) -> 27439.225
A34: SUBCAPITOLUL 5.3
A35: Cheltuieli diverse si neprevazute
A36: 5.3.1 | B36: Cheltuieli diverse si neprevazute | D36: 110000 | E36: =D36*$F$6 -> 20900 | G36: =D36+E36 -> 130900
A38: TOTAL SUBCAPITOL 5.3. | D38: =D36 -> 110000 | E38: =E36 -> 20900 | G38: =G36 -> 130900
A40: SUBCAPITOLUL 5.4
A41: Cheltuieli pentru informare si publicitate
A42: 5.4.1 | B42: Cheltuieli pentru informare si publicitate | D42: 38310 | E42: =D42*$F$6 -> 7278.9 | G42: =D42+E42 -> 45588.9
A43: TOTAL SUBCAPITOL 5.4 | D43: =D42 -> 38310 | E43: =E42 -> 7278.9 | G43: =G42 -> 45588.9
A44: TOTAL CAPITOL 5 | D44: =D43+D38+D32+D17 -> 245564.23 | E44: =E43+E38+E32+E17 -> 41443.75 | G44: =G43+G38+G32+G17 -> 287007.97
B47: INTOCMIT:

Sheet DF.6
A2: CAPITOLUL 6
A3: CHELTUIELI PENTRU PROBE TEHNOLOGICE SI TESTE
A6: Nr. crt. | B6: Denumirea capitolelor si subcapitolelor de cheltuieli | C6: Valoare (fara TVA) | D6: TVA | E6: =DF.1!E4 -> 0.19 | F6: Valoare (inclusiv TVA)
C7: lei | D7: lei | F7: lei
A8: 1 | B8: 2 | C8: 3 | D8: 4 | F8: 5
A10: SUBCAPITOLUL 6.1
A11: Pregatirea personalului de exploatare
A12: 6.1.1 | B12: Pregatirea personalului de exploatare | C12: 0 | D12: =C12*$E$6 -> 0 | F12: =C12+D12 -> 0
A13: TOTAL SUBCAPITOL 6.1. | C13: =C12 -> 0 | D13: =D12 -> 0 | F13: =F12 -> 0
A15: SUBCAPITOLUL 6.2
A16: Probe tehnologice si teste
A17: 6.2.1 | B17: Probe, incercari | C17: 0 | D17: =C17*$E$6 -> 0 | F17: =C17+D17 -> 0
A18: 6.2.2 | B18: Expertize la receptie, omologari, etc | C18: 0 | D18: =C18*$E$6 -> 0 | F18: =C18+D18 -> 0
A19: TOTAL SUBCAPITOL 6.2. | C19: =SUM(C17:C18) -> 0 | D19: =SUM(D17:E18) -> 0 | F19: =SUM(F17:F18) -> 0
A20: TOTAL CAPITOL 6 | C20: =C13+C19 -> 0 | D20: =D13+D19 -> 0 | F20: =F13+F19 -> 0
B23: INTOCMIT:
